Workbook

Sheet Sheet1
A1: 参评反馈情况 | B1: 是否20：00前来单 | C1: 链接超时时间 | D1: 是否 超时 | E1: 预计短信 下发时间 | F1: 当前短信时间 | G1: 宽带账号 | H1: 归档时间（早上第一次导近2天的数据，其他时间断导当天的） | I1: 小区名称 | J1: 报结人 | K1: 工作站 | L1: 区县 | M1: 客服流水号 | N1: 工单编号 | O1: 业务地市 | P1: 区县 | R1: 原始反馈
B2: 否 | C2: 46268.767 | D2: 是 | E2: 46268.433 | F2: =(NOW()-E2)*24 | G2: 18819901112 | H2: 2026-09-02 20:23:51 | I2: 潮州市饶平县高堂镇网格高堂大道院前村 | J2: 0 | M2: 20260902090144X250767790 | N2: CMCC-CZ-TSCLX-20260902-007614 | O2: 潮州 | P2: 饶平县 | Q2: =IF(AND(A2<>"已参评好",F2>=5),"超5小时未参评",IF(F2>=7,"超7小时未参评",IF(F2>=8,"超时未参评","")))
B3: 否 | C3: 46268.767 | D3: 是 | E3: 46268.433 | F3: =(NOW()-E3)*24 | G3: 13553797651 | H3: 2026-09-02 20:23:51 | I3: 潮州市饶平县高堂镇网格高堂大道院前村 | J3: 0 | M3: 20260902095013X251589070 | N3: CMCC-CZ-TSCLX-20260902-001198 | O3: 潮州 | P3: 饶平县 | Q3: =IF(AND(A3<>"已参评好",F3>=5),"超5小时未参评",IF(F3>=7,"超7小时未参评",IF(F3>=8,"超时未参评","")))
B4: 否 | C4: 46268.796 | D4: 是 | E4: 46268.462 | F4: =(NOW()-E4)*24 | G4: 13924722017 | H4: 2026-09-02 21:05:52 | I4: 潮州市潮安区庵埠镇庵东网格亭前路乔林村 | J4: 王伟斌 | K4: 潮安城区工作站 | L4: 潮安 | M4: 20260902100450X257743723 | N4: CMCC-CZ-TSCLX-20260902-002102 | O4: 潮州 | P4: 潮安区 | Q4: =IF(AND(A4<>"已参评好",F4>=5),"超5小时未参评",IF(F4>=7,"超7小时未参评",IF(F4>=8,"超时未参评","")))
B5: 否 | C5: 46268.8 | D5: 是 | E5: 46268.467 | F5: =(NOW()-E5)*24 | G5: 15812660240 | H5: 2026-09-02 21:11:54 | I5: 潮州市湘桥区磷溪镇凤美网格安澄公路田心村 | J5: 陈湘杰 | K5: 磷官铁工作站 | L5: 市区 | M5: 20260902112029X256835926 | N5: CMCC-CZ-TSCLX-20260902-006307 | O5: 潮州 | P5: 湘桥区 | Q5: =IF(AND(A5<>"已参评好",F5>=5),"超5小时未参评",IF(F5>=7,"超7小时未参评",IF(F5>=8,"超时未参评","")))
B6: 是 | C6: 46268.772 | D6: 是 | E6: 46268.439 | F6: =(NOW()-E6)*24 | G6: 13421079792 | H6: 2026-09-03 08:32:00 | I6: 潮州市潮安区庵埠镇庵北网格安南路潮安中心市场 | J6: 庄树贤 | K6: 潮安城区工作站 | L6: 潮安 | M6: 20260902113403X259429730 | N6: CMCC-CZ-TSCLX-20260902-012816 | O6: 潮州 | P6: 潮安区 | Q6: =IF(AND(A6<>"已参评好",F6>=5),"超5小时未参评",IF(F6>=7,"超7小时未参评",IF(F6>=8,"超时未参评","")))
B7: 是 | C7: 46268.775 | D7: 是 | E7: 46268.442 | F7: =(NOW()-E7)*24 | G7: 15976331502 | H7: 2026-09-03 08:35:56 | I7: 潮州市潮安区沙溪镇沙溪西网格镜鸿路沙二商业街 | J7: 孙锦福 | K7: 高铁三镇工作站 | L7: 潮安 | M7: 20260902121901X257201948 | N7: CMCC-CZ-TSCLX-20260902-009922 | O7: 潮州 | P7: 潮安区 | Q7: =IF(AND(A7<>"已参评好",F7>=5),"超5小时未参评",IF(F7>=7,"超7小时未参评",IF(F7>=8,"超时未参评","")))
B8: 否 | C8: 46268.754 | D8: 是 | E8: 46268.421 | F8: =(NOW()-E8)*24 | G8: 13690014506 | H8: 2026-09-02 20:06:09 | I8: 潮州市潮安区金石镇金石北网格鹳焦路远光村 | J8: 林彬举 | K8: 高铁三镇工作站 | L8: 潮安 | M8: 20260902122900X252397723 | N8: CMCC-CZ-TSCLX-20260902-010684 | O8: 潮州 | P8: 潮安区 | Q8: =IF(AND(A8<>"已参评好",F8>=5),"超5小时未参评",IF(F8>=7,"超7小时未参评",IF(F8>=8,"超时未参评","")))
B9: 否 | C9: 46268.767 | D9: 是 | E9: 46268.433 | F9: =(NOW()-E9)*24 | G9: 13829095897 | H9: 2026-09-02 20:23:51 | I9: 潮州市饶平县高堂镇网格高堂大道院前村 | J9: 0 | M9: 20260902125342X259721779 | N9: CMCC-CZ-TSCLX-20260902-011877 | O9: 潮州 | P9: 饶平县 | Q9: =IF(AND(A9<>"已参评好",F9>=5),"超5小时未参评",IF(F9>=7,"超7小时未参评",IF(F9>=8,"超时未参评","")))
B10: 否 | C10: 46268.817 | D10: 是 | E10: 46268.483 | F10: =(NOW()-E10)*24 | G10: 13531538880 | H10: 2026-09-02 21:35:52 | I10: 潮州市饶平县黄冈镇河北网格公园大道公园大道东(二)片区 | J10: 0 | M10: 20260902130701X258095664 | N10: CMCC-CZ-TSCLX-20260902-014569 | O10: 潮州 | P10: 饶平县 | Q10: =IF(AND(A10<>"已参评好",F10>=5),"超5小时未参评",IF(F10>=7,"超7小时未参评",IF(F10>=8,"超时未参评","")))
B11: 否 | C11: 46268.786 | D11: 是 | E11: 46268.453 | F11: =(NOW()-E11)*24 | G11: 13690091508 | H11: 2026-09-02 20:51:57 | I11: 潮州市潮安区凤塘镇凤塘西网格凤玉路淇园村 | J11: 郑楚龙 | K11: 凤塘镇区工作站 | L11: 潮安 | M11: 20260902134036X257545856 | N11: CMCC-CZ-TSCLX-20260902-017060 | O11: 潮州 | P11: 潮安区 | Q11: =IF(AND(A11<>"已参评好",F11>=5),"超5小时未参评",IF(F11>=7,"超7小时未参评",IF(F11>=8,"超时未参评","")))
B12: 否 | C12: 46268.772 | D12: 是 | E12: 46268.439 | F12: =(NOW()-E12)*24 | G12: 13715799416 | H12: 2026-09-02 20:31:52 | I12: 潮州市饶平县汫洲镇网格085县道汫西社区 | J12: 0 | M12: 20260902140520X254218797 | N12: CMCC-CZ-TSCLX-20260902-017269 | O12: 潮州 | P12: 饶平县 | Q12: =IF(AND(A12<>"已参评好",F12>=5),"超5小时未参评",IF(F12>=7,"超7小时未参评",IF(F12>=8,"超时未参评","")))
B13: 否 | C13: 46268.785 | D13: 是 | E13: 46268.451 | F13: =(NOW()-E13)*24 | G13: 13827348999 | H13: 2026-09-02 20:49:55 | I13: 潮州市潮安区庵埠镇庵东网格亭前路乔林村 | J13: 王伟斌 | K13: 潮安城区工作站 | L13: 潮安 | M13: 20260902142423X253773949 | N13: CMCC-CZ-TSCLX-20260902-014707 | O13: 潮州 | P13: 潮安区 | Q13: =IF(AND(A13<>"已参评好",F13>=5),"超5小时未参评",IF(F13>=7,"超7小时未参评",IF(F13>=8,"超时未参评","")))
B14: 否 | C14: 46268.833 | D14: 是 | E14: 46268.5 | F14: =(NOW()-E14)*24 | G14: 13500102039 | H14: 2026-09-02 21:59:51 | I14: 潮州市潮安区枫溪镇云英路网格潮汕路洋头村 | J14: 0 | M14: 20260902155724X257758502 | N14: CMCC-CZ-TSCLX-20260902-024023 | O14: 潮州 | P14: 潮安区 | Q14: =IF(AND(A14<>"已参评好",F14>=5),"超5小时未参评",IF(F14>=7,"超7小时未参评",IF(F14>=8,"超时未参评","")))
B15: 否 | C15: 46268.767 | D15: 是 | E15: 46268.433 | F15: =(NOW()-E15)*24 | G15: 15919527933 | H15: 2026-09-02 20:23:51 | I15: 潮州市饶平县大埕镇网格鸿程大道埕南村 | J15: 0 | M15: 20260902161639X252168274 | N15: CMCC-CZ-TSCLX-20260902-013785 | O15: 潮州 | P15: 饶平县 | Q15: =IF(AND(A15<>"已参评好",F15>=5),"超5小时未参评",IF(F15>=7,"超7小时未参评",IF(F15>=8,"超时未参评","")))
B16: 是 | C16: 46268.772 | D16: 是 | E16: 46268.439 | F16: =(NOW()-E16)*24 | G16: 13715754040 | H16: 2026-09-03 08:32:06 | I16: 潮州市湘桥区凤新街道富丽网格潮州大道恒大山水城 | J16: 陈宏章 | K16: 市区城北工作站 | L16: 市区 | M16: 20260902165302X253754898 | N16: CMCC-CZ-TSCLX-20260902-023453 | O16: 潮州 | P16: 湘桥区 | Q16: =IF(AND(A16<>"已参评好",F16>=5),"超5小时未参评",IF(F16>=7,"超7小时未参评",IF(F16>=8,"超时未参评","")))
B17: 否 | C17: 46268.828 | D17: 是 | E17: 46268.494 | F17: =(NOW()-E17)*24 | G17: 13715789865 | H17: 2026-09-02 21:51:52 | I17: 潮州市潮安区登塘镇登塘网格枫榴路笔埔村 | J17: 刘铭烨 | K17: 古巷登塘工作站 | L17: 潮安 | M17: 20260902170100X250968005 | N17: CMCC-CZ-TSCLX-20260902-026224 | O17: 潮州 | P17: 潮安区 | Q17: =IF(AND(A17<>"已参评好",F17>=5),"超5小时未参评",IF(F17>=7,"超7小时未参评",IF(F17>=8,"超时未参评","")))
B18: 否 | C18: 46268.814 | D18: 是 | E18: 46268.48 | F18: =(NOW()-E18)*24 | G18: 15816198026 | H18: 2026-09-02 21:31:53 | I18: 潮州市潮安区枫溪镇如意网格新风路詹厝村 | J18: 0 | M18: 20260902172759X255313502 | N18: CMCC-CZ-TSCLX-20260902-026617 | O18: 潮州 | P18: 潮安区 | Q18: =IF(AND(A18<>"已参评好",F18>=5),"超5小时未参评",IF(F18>=7,"超7小时未参评",IF(F18>=8,"超时未参评","")))
B19: 否 | C19: 46268.79 | D19: 是 | E19: 46268.457 | F19: =(NOW()-E19)*24 | G19: 13433767890 | H19: 2026-09-02 20:57:55 | I19: 潮州市湘桥区凤新街道凤山网格绿榕北路汇贤居 | J19: 许湘木 | K19: 市区城北工作站 | L19: 市区 | M19: 20260902184601X259077096 | N19: CMCC-CZ-TSCLX-20260902-024335 | O19: 潮州 | P19: 湘桥区 | Q19: =IF(AND(A19<>"已参评好",F19>=5),"超5小时未参评",IF(F19>=7,"超7小时未参评",IF(F19>=8,"超时未参评","")))
B20: 否 | C20: 46268.799 | D20: 是 | E20: 46268.465 | F20: =(NOW()-E20)*24 | G20: 15919528095 | H20: 2026-09-02 21:09:53 | I20: 潮州市湘桥区桥东街道桥东网格东山路六亩村 | J20: 柯德贤 | K20: 韩江新城工作站 | L20: 市区 | M20: 20260902200824X255008653 | N20: CMCC-CZ-TSCLX-20260902-026701 | O20: 潮州 | P20: 湘桥区 | Q20: =IF(AND(A20<>"已参评好",F20>=5),"超5小时未参评",IF(F20>=7,"超7小时未参评",IF(F20>=8,"超时未参评","")))
B21: 否 | C21: 46268.8 | D21: 是 | E21: 46268.467 | F21: =(NOW()-E21)*24 | G21: 13690065817 | H21: 2026-09-02 21:11:56 | I21: 潮州市饶平县饶洋镇网格334省道水东村片区 | J21: 詹振声 | K21: 饶平北片工作站 | L21: 饶平 | M21: 20260902200907X253829148 | N21: CMCC-CZ-TSCLX-20260902-028076 | O21: 潮州 | P21: 饶平县 | Q21: =IF(AND(A21<>"已参评好",F21>=5),"超5小时未参评",IF(F21>=7,"超7小时未参评",IF(F21>=8,"超时未参评","")))
B22: 是 | C22: 46268.772 | D22: 是 | E22: 46268.439 | F22: =(NOW()-E22)*24 | G22: 13715807438 | H22: 2026-09-03 08:32:09 | I22: 潮州市湘桥区城西街道南国网格南较西路厦三片区 | J22: 林佳宏 | K22: 市区城南工作站 | L22: 市区 | M22: 20260902205527X252749717 | N22: CMCC-CZ-TSCLX-20260902-025539 | O22: 潮州 | P22: 湘桥区 | Q22: =IF(AND(A22<>"已参评好",F22>=5),"超5小时未参评",IF(F22>=7,"超7小时未参评",IF(F22>=8,"超时未参评","")))
B23: 否 | C23: 46268.81 | D23: 是 | E23: 46268.476 | F23: =(NOW()-E23)*24 | G23: 15207685557a | H23: 2026-09-02 21:25:53 | I23: 潮州市湘桥区磷溪镇凤美网格安澄公路窑美村 | J23: 陈湘杰 | K23: 磷官铁工作站 | L23: 市区 | M23: 20260902210645X259656905 | N23: CMCC-CZ-TSCLX-20260902-027961 | O23: 潮州 | P23: 湘桥区 | Q23: =IF(AND(A23<>"已参评好",F23>=5),"超5小时未参评",IF(F23>=7,"超7小时未参评",IF(F23>=8,"超时未参评","")))
B24: 是 | C24: 46268.782 | D24: 是 | E24: 46268.449 | F24: =(NOW()-E24)*24 | G24: 15018102420 | H24: 2026-09-03 08:45:56 | I24: 潮州市饶平县汫洲镇网格085县道下水利片区 | J24: 麦煌圳 | K24: 饶平西片工作站 | L24: 饶平 | M24: 20260902214936X256666380 | N24: CMCC-CZ-TSCLX-20260902-030321 | O24: 潮州 | P24: 饶平县 | Q24: =IF(AND(A24<>"已参评好",F24>=5),"超5小时未参评",IF(F24>=7,"超7小时未参评",IF(F24>=8,"超时未参评","")))
B25: 是 | C25: 46268.772 | D25: 是 | E25: 46268.439 | F25: =(NOW()-E25)*24 | G25: 13534600608 | H25: 2026-09-03 08:32:03 | I25: 潮州市潮安区庵埠镇庵东网格潮汕公路凤岐村 | J25: 梁林勃 | K25: 潮安城区工作站 | L25: 潮安 | M25: 20260902222019X253163245 | N25: CMCC-CZ-TSCLX-20260902-032025 | O25: 潮州 | P25: 潮安区 | Q25: =IF(AND(A25<>"已参评好",F25>=5),"超5小时未参评",IF(F25>=7,"超7小时未参评",IF(F25>=8,"超时未参评","")))
B26: 是 | C26: 46268.772 | D26: 是 | E26: 46268.439 | F26: =(NOW()-E26)*24 | G26: 17324726550 | H26: 2026-09-03 08:31:51 | I26: 潮州市饶平县黄冈镇中心网格广场东路县政府片区 | J26: 陈旭钦 | K26: 饶平城区工作站 | L26: 饶平 | M26: 20260902222450X252614357 | N26: CMCC-CZ-TSCLX-20260902-023992 | O26: 潮州 | P26: 饶平县 | Q26: =IF(AND(A26<>"已参评好",F26>=5),"超5小时未参评",IF(F26>=7,"超7小时未参评",IF(F26>=8,"超时未参评","")))
B27: 是 | C27: 46268.819 | D27: 是 | E27: 46268.485 | F27: =(NOW()-E27)*24 | G27: 13715769705 | H27: 2026-09-03 09:38:48 | I27: 潮州市潮安区浮洋镇浮洋北网格浮新路木井村 | J27: 林坤雄 | K27: 浮洋网格 | M27: 20260902130009X258804926 | N27: CMCC-CZ-TSCLX-20260902-019010 | O27: 潮州 | P27: 潮安区 | Q27: =IF(AND(A27<>"已参评好",F27>=5),"超5小时未参评",IF(F27>=7,"超7小时未参评",IF(F27>=8,"超时未参评","")))
B28: 是 | C28: 46268.812 | D28: 是 | E28: 46268.479 | F28: =(NOW()-E28)*24 | G28: 15919542326 | H28: 2026-09-03 09:29:51 | I28: 潮州市潮安区古巷镇枫洋网格枫洋市路枫洋枫洋四村 | J28: 陈海荣 | K28: 古巷登塘工作站 | L28: 潮安 | M28: 20260902154836X255505350 | N28: CMCC-CZ-TSCLX-20260902-018742 | O28: 潮州 | P28: 潮安区 | Q28: =IF(AND(A28<>"已参评好",F28>=5),"超5小时未参评",IF(F28>=7,"超7小时未参评",IF(F28>=8,"超时未参评","")))
B29: 是 | C29: 46268.8 | D29: 是 | E29: 46268.467 | F29: =(NOW()-E29)*24 | G29: 15089763789 | H29: 2026-09-03 09:12:08 | I29: 潮州市潮安区枫溪镇瓷兴网格凤新西路雁园【可装2000M】 | J29: 蔡键城 | K29: 瓷都枫溪工作站 | L29: 市区 | M29: 20260902172530X255802406 | N29: CMCC-CZ-TSCLX-20260902-022308 | O29: 潮州 | P29: 潮安区 | Q29: =IF(AND(A29<>"已参评好",F29>=5),"超5小时未参评",IF(F29>=7,"超7小时未参评",IF(F29>=8,"超时未参评","")))
B30: 是 | C30: 46268.786 | D30: 是 | E30: 46268.453 | F30: =(NOW()-E30)*24 | G30: 13670707091 | H30: 2026-09-03 08:51:56 | I30: 潮州市饶平县海山镇北片网格539乡道浮任村【可装2000M】 | J30: 林成鑫 | K30: 饶平西片工作站 | L30: 饶平 | M30: 20260902170223X254055224 | N30: CMCC-CZ-TSCLX-20260902-020776 | O30: 潮州 | P30: 饶平县 | Q30: =IF(AND(A30<>"已参评好",F30>=5),"超5小时未参评",IF(F30>=7,"超7小时未参评",IF(F30>=8,"超时未参评","")))
B31: 是 | C31: 46268.804 | D31: 是 | E31: 46268.471 | F31: =(NOW()-E31)*24 | G31: 13500103880 | H31: 2026-09-03 09:17:56 | I31: 潮州市湘桥区桥东街道恒大城网格金碧路恒大城 | J31: 曾楚湘 | K31: 韩江新城工作站 | L31: 市区 | M31: 20260902191552X257165927 | N31: CMCC-CZ-TSCLX-20260902-025117 | O31: 潮州 | P31: 湘桥区 | Q31: =IF(AND(A31<>"已参评好",F31>=5),"超5小时未参评",IF(F31>=7,"超7小时未参评",IF(F31>=8,"超时未参评","")))
B32: 是 | C32: 46268.824 | D32: 是 | E32: 46268.49 | F32: =(NOW()-E32)*24 | G32: 15088160821 | H32: 2026-09-03 09:46:06 | I32: 潮州市饶平县东山镇东山网格双罗路双罗村 | J32: 江伟道 | K32: 饶平中片工作站 | L32: 饶平 | M32: 20260902195501X257577651 | N32: CMCC-CZ-TSCLX-20260902-023756 | O32: 潮州 | P32: 饶平县 | Q32: =IF(AND(A32<>"已参评好",F32>=5),"超5小时未参评",IF(F32>=7,"超7小时未参评",IF(F32>=8,"超时未参评","")))
B33: 是 | C33: 46268.79 | D33: 是 | E33: 46268.457 | F33: =(NOW()-E33)*24 | G33: 13924721993 | H33: 2026-09-03 08:57:53 | I33: 潮州市潮安区沙溪镇沙溪东网格镜鸿路内池村 | J33: 洪名鑫 | K33: 高铁三镇工作站 | L33: 潮安 | M33: 20260902214221X252909761 | N33: CMCC-CZ-TSCLX-20260902-023793 | O33: 潮州 | P33: 潮安区 | Q33: =IF(AND(A33<>"已参评好",F33>=5),"超5小时未参评",IF(F33>=7,"超7小时未参评",IF(F33>=8,"超时未参评","")))
B34: 是 | C34: 46268.806 | D34: 是 | E34: 46268.472 | F34: =(NOW()-E34)*24 | G34: 13828363363 | H34: 2026-09-03 09:20:02 | I34: 潮州市潮安区凤凰镇凤凰文祠网格S231省道凤湖村 | J34: 黄晓东 | K34: 北部四镇工作站 | L34: 潮安 | M34: 20260903035941X256569098 | N34: CMCC-CZ-TSCLX-20260903-003006 | O34: 潮州 | P34: 潮安区 | Q34: =IF(AND(A34<>"已参评好",F34>=5),"超5小时未参评",IF(F34>=7,"超7小时未参评",IF(F34>=8,"超时未参评","")))
B35: 是 | C35: 46268.857 | D35: 是 | E35: 46268.524 | F35: =(NOW()-E35)*24 | G35: 15913045970 | H35: 2026-09-03 10:34:02 | I35: 潮州市潮安区东凤镇东凤北网格东梅路诗阳村【可装2000M】 | J35: 陈颖东 | K35: 彩塘东凤工作站 | L35: 潮安 | M35: 20260902130949X250795768 | N35: CMCC-CZ-TSCLX-20260902-016951 | O35: 潮州 | P35: 潮安区 | Q35: =IF(AND(A35<>"已参评好",F35>=5),"超5小时未参评",IF(F35>=7,"超7小时未参评",IF(F35>=8,"超时未参评","")))
B36: 是 | C36: 46268.911 | D36: 是 | E36: 46268.578 | F36: =(NOW()-E36)*24 | G36: 36520017658 | H36: 2026-09-03 11:51:51 | I36: 潮州市潮安区东凤镇东凤北网格东梅路诗阳村【可装2000M】 | J36: 0 | M36: 20260902145512X251399104 | N36: CMCC-CZ-TSCLX-20260902-020065 | O36: 潮州 | P36: 潮安区 | Q36: =IF(AND(A36<>"已参评好",F36>=5),"超5小时未参评",IF(F36>=7,"超7小时未参评",IF(F36>=8,"超时未参评","")))
B37: 是 | C37: 46268.842 | D37: 是 | E37: 46268.508 | F37: =(NOW()-E37)*24 | G37: 15913024818 | H37: 2026-09-03 10:12:12 | I37: 潮州市潮安区枫溪镇池湖网格池湖路池湖村 | J37: 卢奕鑫 | K37: 瓷都枫溪工作站 | L37: 市区 | M37: 20260902154143X251748228 | N37: CMCC-CZ-TSCLX-20260902-014152 | O37: 潮州 | P37: 潮安区 | Q37: =IF(AND(A37<>"已参评好",F37>=5),"超5小时未参评",IF(F37>=7,"超7小时未参评",IF(F37>=8,"超时未参评","")))
B38: 是 | C38: 46268.887 | D38: 是 | E38: 46268.553 | F38: =(NOW()-E38)*24 | G38: 15816165956 | H38: 2026-09-03 11:16:39 | I38: 潮州市潮安区古巷镇枫洋网格枫洋市路枫洋枫二村 | J38: 卢泽思 | K38: 古巷登塘工作站 | L38: 潮安 | M38: 20260902165207X252465821 | N38: CMCC-CZ-TSCLX-20260902-026021 | O38: 潮州 | P38: 潮安区 | Q38: =IF(AND(A38<>"已参评好",F38>=5),"超5小时未参评",IF(F38>=7,"超7小时未参评",IF(F38>=8,"超时未参评","")))
B39: 是 | C39: 46269.024 | D39: 否 | E39: 46268.69 | F39: =(NOW()-E39)*24 | G39: 15919519705 | H39: 2026-09-03 14:33:59 | I39: 潮州市潮安区登塘镇登塘网格枫榴路溪墘寮村 | J39: 刘铭烨 | K39: 古巷登塘工作站 | L39: 潮安 | M39: 20260902170207X259639683 | N39: CMCC-CZ-TSCLX-20260902-023081 | O39: 潮州 | P39: 潮安区 | Q39: =IF(AND(A39<>"已参评好",F39>=5),"超5小时未参评",IF(F39>=7,"超7小时未参评",IF(F39>=8,"超时未参评","")))
B40: 是 | C40: 46268.911 | D40: 是 | E40: 46268.578 | F40: =(NOW()-E40)*24 | G40: 15917178680 | H40: 2026-09-03 11:52:03 | I40: 潮州市潮安区浮洋镇浮洋南网格广诚路洪巷村 | J40: 曾声锦 | M40: 20260902171207X255398439 | N40: CMCC-CZ-TSCLX-20260902-027602 | O40: 潮州 | P40: 潮安区 | Q40: =IF(AND(A40<>"已参评好",F40>=5),"超5小时未参评",IF(F40>=7,"超7小时未参评",IF(F40>=8,"超时未参评","")))
...

Sheet Sheet2
A1: 账号 | B1: 创单时间 | C1: 工作站 | D1: 站长 | E1: 装维 | F1: 反馈内容 | H1: 是否20：00前来单 | I1: 当前短信时间 | J1: 预计短信 下发时间 | K1: 链接超时时间 | M1: 原始反馈
A2: 13502502692 | B2: 46267.916 | C2: 潮安城区工作站 | D2: 吴家鸣 | E2: 曾喜标 | G2: 超时 | H2: 否 | I2: =(NOW()-J2)*24 | J2: 46268.499 | K2: 46268.832 | L2: =IF(AND(F2<>"已参评好",I2>=5),"超5小时未参评",IF(I2>=7,"超7小时未参评",IF(I2>=8,"超时未参评","")))
A3: 15907679192 | B3: 46267.911 | C3: 市区城南工作站 | D3: 陈理智 | E3: 林佳宏 | G3: 超时 | H3: 否 | I3: =(NOW()-J3)*24 | J3: 46268.494 | K3: 46268.827 | L3: =IF(AND(F3<>"已参评好",I3>=5),"超5小时未参评",IF(I3>=7,"超7小时未参评",IF(I3>=8,"超时未参评","")))
A4: 36530074501 | B4: 46267.862 | C4: 市区城南工作站 | D4: 陈理智 | E4: 陈诗俊 | G4: 超时 | H4: 否 | I4: =(NOW()-J4)*24 | J4: 46268.445 | K4: 46268.778 | L4: =IF(AND(F4<>"已参评好",I4>=5),"超5小时未参评",IF(I4>=7,"超7小时未参评",IF(I4>=8,"超时未参评","")))
A5: 15913061386 | B5: 46268.504 | C5: 市区城北工作站 | D5: 陆锐荣 | E5: 蔡智发 | G5: 超时 | H5: 是 | I5: =(NOW()-J5)*24 | J5: 46268.587 | K5: 46268.92 | L5: =IF(AND(F5<>"已参评好",I5>=5),"超5小时未参评",IF(I5>=7,"超7小时未参评",IF(I5>=8,"超时未参评","")))
A6: 15992374558 | B6: 46268.521 | C6: 市区城南工作站 | D6: 陈理智 | E6: 蔡梓康 | G6: 超时 | H6: 是 | I6: =(NOW()-J6)*24 | J6: 46268.604 | K6: 46268.938 | L6: =IF(AND(F6<>"已参评好",I6>=5),"超5小时未参评",IF(I6>=7,"超7小时未参评",IF(I6>=8,"超时未参评","")))
A7: 13828399640 | B7: 46268.443 | C7: 市区城南工作站 | D7: 陈理智 | E7: 蔡梓康 | G7: 超时 | H7: 是 | I7: =(NOW()-J7)*24 | J7: 46268.527 | K7: 46268.86 | L7: =IF(AND(F7<>"已参评好",I7>=5),"超5小时未参评",IF(I7>=7,"超7小时未参评",IF(I7>=8,"超时未参评","")))
A8: 13539394936 | B8: 46268.452 | C8: 韩江新城工作站 | D8: 邱培烁 | E8: 曾楚湘 | G8: 超时 | H8: 是 | I8: =(NOW()-J8)*24 | J8: 46268.535 | K8: 46268.868 | L8: =IF(AND(F8<>"已参评好",I8>=5),"超5小时未参评",IF(I8>=7,"超7小时未参评",IF(I8>=8,"超时未参评","")))
A9: 36530074489 | B9: 46268.486 | C9: 韩江新城工作站 | D9: 邱培烁 | E9: 曾楚湘 | G9: 超时 | H9: 是 | I9: =(NOW()-J9)*24 | J9: 46268.57 | K9: 46268.903 | L9: =IF(AND(F9<>"已参评好",I9>=5),"超5小时未参评",IF(I9>=7,"超7小时未参评",IF(I9>=8,"超时未参评","")))
A10: 13502503777 | B10: 46268.431 | C10: 潮安城区工作站 | D10: 吴家鸣 | E10: 曾喜标 | G10: 超时 | H10: 是 | I10: =(NOW()-J10)*24 | J10: 46268.514 | K10: 46268.847 | L10: =IF(AND(F10<>"已参评好",I10>=5),"超5小时未参评",IF(I10>=7,"超7小时未参评",IF(I10>=8,"超时未参评","")))
A11: 18607680805 | B11: 46268.577 | C11: 瓷都枫溪工作站 | D11: 许守锦 | E11: 陈丹华 | G11: 超时 | H11: 是 | I11: =(NOW()-J11)*24 | J11: 46268.66 | K11: 46268.993 | L11: =IF(AND(F11<>"已参评好",I11>=5),"超5小时未参评",IF(I11>=7,"超7小时未参评",IF(I11>=8,"超时未参评","")))
A12: 18823528333 | B12: 46268.492 | C12: 市区城北工作站 | D12: 陆锐荣 | E12: 陈宏章 | G12: 超时 | H12: 是 | I12: =(NOW()-J12)*24 | J12: 46268.575 | K12: 46268.908 | L12: =IF(AND(F12<>"已参评好",I12>=5),"超5小时未参评",IF(I12>=7,"超7小时未参评",IF(I12>=8,"超时未参评","")))
A13: 13903099714 | B13: 46268.595 | C13: 潮安城区工作站 | D13: 吴家鸣 | E13: 陈家昭 | G13: 超时 | H13: 是 | I13: =(NOW()-J13)*24 | J13: 46268.679 | K13: 46269.012 | L13: =IF(AND(F13<>"已参评好",I13>=5),"超5小时未参评",IF(I13>=7,"超7小时未参评",IF(I13>=8,"超时未参评","")))
... A22: 15816535696 | B22: 46268.592 | C22: 瓷都枫溪工作站 | D22: 许守锦 | E22: 温锈洪 | G22: 超时 | H22: 是 | I22: =(NOW()-J22)*24 | J22: 46268.675 | K22: 46269.009 | L22: =IF(AND(F22<>"已参评好",I22>=5),"超5小时未参评",IF(I22>=7,"超7小时未参评",IF(I22>=8,"超时未参评","")))
A23: 13118608801 | B23: 46268.552 | E23: 许少鑫 | G23: 超时 | H23: 是 | I23: =(NOW()-J23)*24 | J23: 46268.636 | K23: 46268.969 | L23: =IF(AND(F23<>"已参评好",I23>=5),"超5小时未参评",IF(I23>=7,"超7小时未参评",IF(I23>=8,"超时未参评","")))
A24: 19886483247 | B24: 46268.676 | C24: 市区城北工作站 | D24: 陆锐荣 | E24: 蔡智发 | G24: 未超8小时 | H24: 是 | I24: =(NOW()-J24)*24 | J24: 46268.76 | K24: 46269.093 | L24: =IF(AND(F24<>"已参评好",I24>=5),"超5小时未参评",IF(I24>=7,"超7小时未参评",IF(I24>=8,"超时未参评","")))
A25: 13828373703 | B25: 46268.749 | C25: 市区城南工作站 | D25: 陈理智 | E25: 蔡梓康 | G25: 未超8小时 | H25: 是 | I25: =(NOW()-J25)*24 | J25: 46268.832 | K25: 46269.165 | L25: =IF(AND(F25<>"已参评好",I25>=5),"超5小时未参评",IF(I25>=7,"超7小时未参评",IF(I25>=8,"超时未参评","")))
A26: 15992379874 | B26: 46268.657 | C26: 市区城北工作站 | D26: 陆锐荣 | E26: 曹贤伟 | G26: 未超8小时 | H26: 是 | I26: =(NOW()-J26)*24 | J26: 46268.74 | K26: 46269.074 | L26: =IF(AND(F26<>"已参评好",I26>=5),"超5小时未参评",IF(I26>=7,"超7小时未参评",IF(I26>=8,"超时未参评","")))
A27: 13690096262 | B27: 46268.627 | C27: 市区城北工作站 | D27: 陆锐荣 | E27: 曹贤伟 | G27: 未超8小时 | H27: 是 | I27: =(NOW()-J27)*24 | J27: 46268.711 | K27: 46269.044 | L27: =IF(AND(F27<>"已参评好",I27>=5),"超5小时未参评",IF(I27>=7,"超7小时未参评",IF(I27>=8,"超时未参评","")))
A28: 13715763306 | B28: 46268.686 | C28: 潮安城区工作站 | D28: 吴家鸣 | E28: 曾喜标 | G28: 未超8小时 | H28: 是 | I28: =(NOW()-J28)*24 | J28: 46268.77 | K28: 46269.103 | L28: =IF(AND(F28<>"已参评好",I28>=5),"超5小时未参评",IF(I28>=7,"超7小时未参评",IF(I28>=8,"超时未参评","")))
A29: 13690057566 | B29: 46268.698 | C29: 市区城北工作站 | D29: 陆锐荣 | E29: 陈宏章 | G29: 未超8小时 | H29: 是 | I29: =(NOW()-J29)*24 | J29: 46268.782 | K29: 46269.115 | L29: =IF(AND(F29<>"已参评好",I29>=5),"超5小时未参评",IF(I29>=7,"超7小时未参评",IF(I29>=8,"超时未参评","")))
A30: 18811864928 | B30: 46268.707 | C30: 潮安城区工作站 | D30: 吴家鸣 | E30: 陈家昭 | G30: 未超8小时 | H30: 是 | I30: =(NOW()-J30)*24 | J30: 46268.791 | K30: 46269.124 | L30: =IF(AND(F30<>"已参评好",I30>=5),"超5小时未参评",IF(I30>=7,"超7小时未参评",IF(I30>=8,"超时未参评","")))
A31: 15207681632 | B31: 46268.76 | C31: 市区城南工作站 | D31: 陈理智 | E31: 陈楷 | G31: 未超8小时 | H31: 是 | I31: =(NOW()-J31)*24 | J31: 46268.844 | K31: 46269.177 | L31: =IF(AND(F31<>"已参评好",I31>=5),"超5小时未参评",IF(I31>=7,"超7小时未参评",IF(I31>=8,"超时未参评","")))
A32: 13509895509 | B32: 46268.729 | C32: 市区城南工作站 | D32: 陈理智 | E32: 陈庆炎 | G32: 未超8小时 | H32: 是 | I32: =(NOW()-J32)*24 | J32: 46268.812 | K32: 46269.145 | L32: =IF(AND(F32<>"已参评好",I32>=5),"超5小时未参评",IF(I32>=7,"超7小时未参评",IF(I32>=8,"超时未参评","")))
A33: 13828394802 | B33: 46268.743 | C33: 市区城北工作站 | D33: 陆锐荣 | E33: 陈锐 | G33: 未超8小时 | H33: 是 | I33: =(NOW()-J33)*24 | J33: 46268.826 | K33: 46269.159 | L33: =IF(AND(F33<>"已参评好",I33>=5),"超5小时未参评",IF(I33>=7,"超7小时未参评",IF(I33>=8,"超时未参评","")))
A34: 13652814059 | B34: 46268.741 | C34: 韩江新城工作站 | D34: 邱培烁 | E34: 陈少煌 | G34: 未超8小时 | H34: 是 | I34: =(NOW()-J34)*24 | J34: 46268.825 | K34: 46269.158 | L34: =IF(AND(F34<>"已参评好",I34>=5),"超5小时未参评",IF(I34>=7,"超7小时未参评",IF(I34>=8,"超时未参评","")))
A35: 18819900616 | B35: 46268.687 | C35: 市区城南工作站 | D35: 陈理智 | E35: 陈诗俊 | G35: 未超8小时 | H35: 是 | I35: =(NOW()-J35)*24 | J35: 46268.771 | K35: 46269.104 | L35: =IF(AND(F35<>"已参评好",I35>=5),"超5小时未参评",IF(I35>=7,"超7小时未参评",IF(I35>=8,"超时未参评","")))
... A60: 13500111182 | B60: 46268.736 | C60: 瓷都枫溪工作站 | D60: 许守锦 | E60: 庄卓煌 | G60: 未超8小时 | H60: 是 | I60: =(NOW()-J60)*24 | J60: 46268.819 | K60: 46269.153 | L60: =IF(AND(F60<>"已参评好",I60>=5),"超5小时未参评",IF(I60>=7,"超7小时未参评",IF(I60>=8,"超时未参评","")))

Sheet Sheet3
A1: 工作站/中心 | B1: 故障 | H1: 开通 | N1: 汇总
B3: 数量 | C3: 反馈数 | D3: 反馈比 | E3: 反馈已参评数 | F3: 参评比 | G3: 超5小时未参评 | H3: 数量 | I3: 反馈数 | J3: 反馈比 | K3: 反馈已参评数 | L3: 参评比 | M3: 超5小时未参评 | N3: 数量 | O3: 反馈数 | P3: 反馈比 | Q3: 反馈已参评数 | R3: 参评比 | S3: 超5小时参评
A4: 瓷都枫溪工作站 | B4: =COUNTIF(Sheet1!K:K,A4) | C4: =COUNTIFS(Sheet1!K:K,A4,Sheet1!A:A,"<>") | D4: =C4/B4 | E4: =COUNTIFS(Sheet1!K:K,A4,Sheet1!A:A,"已参评好") | F4: =E4/B4 | G4: =COUNTIFS(Sheet1!K:K,A4,Sheet1!F:F,">=5",Sheet1!A:A,"<>已参评好") | H4: =COUNTIF(Sheet2!C:C,A4) | I4: =COUNTIFS(Sheet2!C:C,A4,Sheet2!F:F,"<>") | J4: =I4/H4 | K4: =COUNTIFS(Sheet2!C:C,A4,Sheet2!F:F,"已参评好") | L4: =K4/H4 | M4: =COUNTIFS(Sheet2!C:C,A4,Sheet2!I:I,">=5",Sheet2!F:F,"<>已参评好") | N4: =SUM(B4,H4) | O4: =SUM(C4,I4) | P4: =O4/N4 | Q4: =K4+E4 | R4: =Q4/N4 | S4: =M4+G4
A5: 市区城北工作站 | B5: =COUNTIF(Sheet1!K:K,A5) | C5: =COUNTIFS(Sheet1!K:K,A5,Sheet1!A:A,"<>") | D5: =C5/B5 | E5: =COUNTIFS(Sheet1!K:K,A5,Sheet1!A:A,"已参评好") | F5: =E5/B5 | G5: =COUNTIFS(Sheet1!K:K,A5,Sheet1!F:F,">=5",Sheet1!A:A,"<>已参评好") | H5: =COUNTIF(Sheet2!C:C,A5) | I5: =COUNTIFS(Sheet2!C:C,A5,Sheet2!F:F,"<>") | J5: =I5/H5 | K5: =COUNTIFS(Sheet2!C:C,A5,Sheet2!F:F,"已参评好") | L5: =K5/H5 | M5: =COUNTIFS(Sheet2!C:C,A5,Sheet2!I:I,">=5",Sheet2!F:F,"<>已参评好") | N5: =SUM(B5,H5) | O5: =SUM(C5,I5) | P5: =O5/N5 | Q5: =K5+E5 | R5: =Q5/N5 | S5: =M5+G5
A6: 市区城南工作站 | B6: =COUNTIF(Sheet1!K:K,A6) | C6: =COUNTIFS(Sheet1!K:K,A6,Sheet1!A:A,"<>") | D6: =C6/B6 | E6: =COUNTIFS(Sheet1!K:K,A6,Sheet1!A:A,"已参评好") | F6: =E6/B6 | G6: =COUNTIFS(Sheet1!K:K,A6,Sheet1!F:F,">=5",Sheet1!A:A,"<>已参评好") | H6: =COUNTIF(Sheet2!C:C,A6) | I6: =COUNTIFS(Sheet2!C:C,A6,Sheet2!F:F,"<>") | J6: =I6/H6 | K6: =COUNTIFS(Sheet2!C:C,A6,Sheet2!F:F,"已参评好") | L6: =K6/H6 | M6: =COUNTIFS(Sheet2!C:C,A6,Sheet2!I:I,">=5",Sheet2!F:F,"<>已参评好") | N6: =SUM(B6,H6) | O6: =SUM(C6,I6) | P6: =O6/N6 | Q6: =K6+E6 | R6: =Q6/N6 | S6: =M6+G6
A7: 磷官铁工作站 | B7: =COUNTIF(Sheet1!K:K,A7) | C7: =COUNTIFS(Sheet1!K:K,A7,Sheet1!A:A,"<>") | D7: =C7/B7 | E7: =COUNTIFS(Sheet1!K:K,A7,Sheet1!A:A,"已参评好") | F7: =E7/B7 | G7: =COUNTIFS(Sheet1!K:K,A7,Sheet1!F:F,">=5",Sheet1!A:A,"<>已参评好") | H7: =COUNTIF(Sheet2!C:C,A7) | I7: =COUNTIFS(Sheet2!C:C,A7,Sheet2!F:F,"<>") | J7: =I7/H7 | K7: =COUNTIFS(Sheet2!C:C,A7,Sheet2!F:F,"已参评好") | L7: =K7/H7 | M7: =COUNTIFS(Sheet2!C:C,A7,Sheet2!I:I,">=5",Sheet2!F:F,"<>已参评好") | N7: =SUM(B7,H7) | O7: =SUM(C7,I7) | P7: =O7/N7 | Q7: =K7+E7 | R7: =Q7/N7 | S7: =M7+G7
A8: 韩江新城工作站 | B8: =COUNTIF(Sheet1!K:K,A8) | C8: =COUNTIFS(Sheet1!K:K,A8,Sheet1!A:A,"<>") | D8: =C8/B8 | E8: =COUNTIFS(Sheet1!K:K,A8,Sheet1!A:A,"已参评好") | F8: =E8/B8 | G8: =COUNTIFS(Sheet1!K:K,A8,Sheet1!F:F,">=5",Sheet1!A:A,"<>已参评好") | H8: =COUNTIF(Sheet2!C:C,A8) | I8: =COUNTIFS(Sheet2!C:C,A8,Sheet2!F:F,"<>") | J8: =I8/H8 | K8: =COUNTIFS(Sheet2!C:C,A8,Sheet2!F:F,"已参评好") | L8: =K8/H8 | M8: =COUNTIFS(Sheet2!C:C,A8,Sheet2!I:I,">=5",Sheet2!F:F,"<>已参评好") | N8: =SUM(B8,H8) | O8: =SUM(C8,I8) | P8: =O8/N8 | Q8: =K8+E8 | R8: =Q8/N8 | S8: =M8+G8
A9: 市区中心 | B9: =SUM(B4:B8) | C9: =SUM(C4:C8) | D9: =C9/B9 | E9: =SUM(E4:E8) | F9: =E9/B9 | G9: =SUM(G4:G8) | H9: =SUM(H4:H8) | I9: =SUM(I4:I8) | J9: =I9/H9 | K9: =SUM(K4:K8) | L9: =K9/H9 | M9: =SUM(M4:M8) | N9: =SUM(N4:N8) | O9: =SUM(O4:O8) | P9: =O9/N9 | Q9: =K9+E9 | R9: =Q9/N9 | S9: =M9+G9
A10: 潮安城区工作站 | B10: =COUNTIF(Sheet1!K:K,A10) | C10: =COUNTIFS(Sheet1!K:K,A10,Sheet1!A:A,"<>") | D10: =C10/B10 | E10: =COUNTIFS(Sheet1!K:K,A10,Sheet1!A:A,"已参评好") | F10: =E10/B10 | G10: =COUNTIFS(Sheet1!K:K,A10,Sheet1!F:F,">=5",Sheet1!A:A,"<>已参评好") | H10: =COUNTIF(Sheet2!C:C,A10) | I10: =COUNTIFS(Sheet2!C:C,A10,Sheet2!F:F,"<>") | J10: =I10/H10 | K10: =COUNTIFS(Sheet2!C:C,A10,Sheet2!F:F,"已参评好") | L10: =K10/H10 | M10: =COUNTIFS(Sheet2!C:C,A10,Sheet2!I:I,">=5",Sheet2!F:F,"<>已参评好") | N10: =SUM(B10,H10) | O10: =SUM(C10,I10) | P10: =O10/N10 | Q10: =K10+E10 | R10: =Q10/N10 | S10: =M10+G10
A11: 彩塘东凤工作站 | B11: =COUNTIF(Sheet1!K:K,A11) | C11: =COUNTIFS(Sheet1!K:K,A11,Sheet1!A:A,"<>") | D11: =C11/B11 | E11: =COUNTIFS(Sheet1!K:K,A11,Sheet1!A:A,"已参评好") | F11: =E11/B11 | G11: =COUNTIFS(Sheet1!K:K,A11,Sheet1!F:F,">=5",Sheet1!A:A,"<>已参评好") | H11: =COUNTIF(Sheet2!C:C,A11) | I11: =COUNTIFS(Sheet2!C:C,A11,Sheet2!F:F,"<>") | J11: =I11/H11 | K11: =COUNTIFS(Sheet2!C:C,A11,Sheet2!F:F,"已参评好") | L11: =K11/H11 | M11: =COUNTIFS(Sheet2!C:C,A11,Sheet2!I:I,">=5",Sheet2!F:F,"<>已参评好") | N11: =SUM(B11,H11) | O11: =SUM(C11,I11) | P11: =O11/N11 | Q11: =K11+E11 | R11: =Q11/N11 | S11: =M11+G11
A12: 高铁三镇工作站 | B12: =COUNTIF(Sheet1!K:K,A12) | C12: =COUNTIFS(Sheet1!K:K,A12,Sheet1!A:A,"<>") | D12: =C12/B12 | E12: =COUNTIFS(Sheet1!K:K,A12,Sheet1!A:A,"已参评好") | F12: =E12/B12 | G12: =COUNTIFS(Sheet1!K:K,A12,Sheet1!F:F,">=5",Sheet1!A:A,"<>已参评好") | H12: =COUNTIF(Sheet2!C:C,A12) | I12: =COUNTIFS(Sheet2!C:C,A12,Sheet2!F:F,"<>") | J12: =I12/H12 | K12: =COUNTIFS(Sheet2!C:C,A12,Sheet2!F:F,"已参评好") | L12: =K12/H12 | M12: =COUNTIFS(Sheet2!C:C,A12,Sheet2!I:I,">=5",Sheet2!F:F,"<>已参评好") | N12: =SUM(B12,H12) | O12: =SUM(C12,I12) | P12: =O12/N12 | Q12: =K12+E12 | R12: =Q12/N12 | S12: =M12+G12
A13: 浮洋网格 | B13: =COUNTIF(Sheet1!K:K,A13) | C13: =COUNTIFS(Sheet1!K:K,A13,Sheet1!A:A,"<>") | D13: =C13/B13 | E13: =COUNTIFS(Sheet1!K:K,A13,Sheet1!A:A,"已参评好") | F13: =E13/B13 | G13: =COUNTIFS(Sheet1!K:K,A13,Sheet1!F:F,">=5",Sheet1!A:A,"<>已参评好") | H13: =COUNTIF(Sheet2!C:C,A13) | I13: =COUNTIFS(Sheet2!C:C,A13,Sheet2!F:F,"<>") | J13: =I13/H13 | K13: =COUNTIFS(Sheet2!C:C,A13,Sheet2!F:F,"已参评好") | L13: =K13/H13 | M13: =COUNTIFS(Sheet2!C:C,A13,Sheet2!I:I,">=5",Sheet2!F:F,"<>已参评好") | N13: =SUM(B13,H13) | O13: =SUM(C13,I13) | P13: =O13/N13 | Q13: =K13+E13 | R13: =Q13/N13 | S13: =M13+G13
A14: 凤塘镇区工作站 | B14: =COUNTIF(Sheet1!K:K,A14) | C14: =COUNTIFS(Sheet1!K:K,A14,Sheet1!A:A,"<>") | D14: =C14/B14 | E14: =COUNTIFS(Sheet1!K:K,A14,Sheet1!A:A,"已参评好") | F14: =E14/B14 | G14: =COUNTIFS(Sheet1!K:K,A14,Sheet1!F:F,">=5",Sheet1!A:A,"<>已参评好") | H14: =COUNTIF(Sheet2!C:C,A14) | I14: =COUNTIFS(Sheet2!C:C,A14,Sheet2!F:F,"<>") | J14: =I14/H14 | K14: =COUNTIFS(Sheet2!C:C,A14,Sheet2!F:F,"已参评好") | L14: =K14/H14 | M14: =COUNTIFS(Sheet2!C:C,A14,Sheet2!I:I,">=5",Sheet2!F:F,"<>已参评好") | N14: =SUM(B14,H14) | O14: =SUM(C14,I14) | P14: =O14/N14 | Q14: =K14+E14 | R14: =Q14/N14 | S14: =M14+G14
A15: 江东龙湖工作站 | B15: =COUNTIF(Sheet1!K:K,A15) | C15: =COUNTIFS(Sheet1!K:K,A15,Sheet1!A:A,"<>") | D15: =C15/B15 | E15: =COUNTIFS(Sheet1!K:K,A15,Sheet1!A:A,"已参评好") | F15: =E15/B15 | G15: =COUNTIFS(Sheet1!K:K,A15,Sheet1!F:F,">=5",Sheet1!A:A,"<>已参评好") | H15: =COUNTIF(Sheet2!C:C,A15) | I15: =COUNTIFS(Sheet2!C:C,A15,Sheet2!F:F,"<>") | J15: =I15/H15 | K15: =COUNTIFS(Sheet2!C:C,A15,Sheet2!F:F,"已参评好") | L15: =K15/H15 | M15: =COUNTIFS(Sheet2!C:C,A15,Sheet2!I:I,">=5",Sheet2!F:F,"<>已参评好") | N15: =SUM(B15,H15) | O15: =SUM(C15,I15) | P15: =O15/N15 | Q15: =K15+E15 | R15: =Q15/N15 | S15: =M15+G15
A16: 北部四镇工作站 | B16: =COUNTIF(Sheet1!K:K,A16) | C16: =COUNTIFS(Sheet1!K:K,A16,Sheet1!A:A,"<>") | D16: =C16/B16 | E16: =COUNTIFS(Sheet1!K:K,A16,Sheet1!A:A,"已参评好") | F16: =E16/B16 | G16: =COUNTIFS(Sheet1!K:K,A16,Sheet1!F:F,">=5",Sheet1!A:A,"<>已参评好") | H16: =COUNTIF(Sheet2!C:C,A16) | I16: =COUNTIFS(Sheet2!C:C,A16,Sheet2!F:F,"<>") | J16: =I16/H16 | K16: =COUNTIFS(Sheet2!C:C,A16,Sheet2!F:F,"已参评好") | L16: =K16/H16 | M16: =COUNTIFS(Sheet2!C:C,A16,Sheet2!I:I,">=5",Sheet2!F:F,"<>已参评好") | N16: =SUM(B16,H16) | O16: =SUM(C16,I16) | P16: =O16/N16 | Q16: =K16+E16 | R16: =Q16/N16 | S16: =M16+G16
A17: 古巷登塘工作站 | B17: =COUNTIF(Sheet1!K:K,A17) | C17: =COUNTIFS(Sheet1!K:K,A17,Sheet1!A:A,"<>") | D17: =C17/B17 | E17: =COUNTIFS(Sheet1!K:K,A17,Sheet1!A:A,"已参评好") | F17: =E17/B17 | G17: =COUNTIFS(Sheet1!K:K,A17,Sheet1!F:F,">=5",Sheet1!A:A,"<>已参评好") | H17: =COUNTIF(Sheet2!C:C,A17) | I17: =COUNTIFS(Sheet2!C:C,A17,Sheet2!F:F,"<>") | J17: =I17/H17 | K17: =COUNTIFS(Sheet2!C:C,A17,Sheet2!F:F,"已参评好") | L17: =K17/H17 | M17: =COUNTIFS(Sheet2!C:C,A17,Sheet2!I:I,">=5",Sheet2!F:F,"<>已参评好") | N17: =SUM(B17,H17) | O17: =SUM(C17,I17) | P17: =O17/N17 | Q17: =K17+E17 | R17: =Q17/N17 | S17: =M17+G17
A18: 潮安中心 | B18: =SUM(B10:B17) | C18: =SUM(C10:C17) | D18: =C18/B18 | E18: =SUM(E10:E17) | F18: =E18/B18 | G18: =SUM(G10:G17) | H18: =SUM(H10:H17) | I18: =SUM(I10:I17) | J18: =I18/H18 | K18: =SUM(K10:K17) | L18: =K18/H18 | M18: =SUM(M10:M17) | N18: =SUM(N10:N17) | O18: =SUM(O10:O17) | P18: =O18/N18 | Q18: =K18+E18 | R18: =Q18/N18 | S18: =M18+G18
A19: 饶平城区工作站 | B19: =COUNTIF(Sheet1!K:K,A19) | C19: =COUNTIFS(Sheet1!K:K,A19,Sheet1!A:A,"<>") | D19: =C19/B19 | E19: =COUNTIFS(Sheet1!K:K,A19,Sheet1!A:A,"已参评好") | F19: =E19/B19 | G19: =COUNTIFS(Sheet1!K:K,A19,Sheet1!F:F,">=5",Sheet1!A:A,"<>已参评好") | H19: =COUNTIF(Sheet2!C:C,A19) | I19: =COUNTIFS(Sheet2!C:C,A19,Sheet2!F:F,"<>") | J19: =I19/H19 | K19: =COUNTIFS(Sheet2!C:C,A19,Sheet2!F:F,"已参评好") | L19: =K19/H19 | M19: =COUNTIFS(Sheet2!C:C,A19,Sheet2!I:I,">=5",Sheet2!F:F,"<>已参评好") | N19: =SUM(B19,H19) | O19: =SUM(C19,I19) | P19: =O19/N19 | Q19: =K19+E19 | R19: =Q19/N19 | S19: =M19+G19
A20: 东界三镇工作站 | B20: =COUNTIF(Sheet1!K:K,A20) | C20: =COUNTIFS(Sheet1!K:K,A20,Sheet1!A:A,"<>") | D20: =C20/B20 | E20: =COUNTIFS(Sheet1!K:K,A20,Sheet1!A:A,"已参评好") | F20: =E20/B20 | G20: =COUNTIFS(Sheet1!K:K,A20,Sheet1!F:F,">=5",Sheet1!A:A,"<>已参评好") | H20: =COUNTIF(Sheet2!C:C,A20) | I20: =COUNTIFS(Sheet2!C:C,A20,Sheet2!F:F,"<>") | J20: =I20/H20 | K20: =COUNTIFS(Sheet2!C:C,A20,Sheet2!F:F,"已参评好") | L20: =K20/H20 | M20: =COUNTIFS(Sheet2!C:C,A20,Sheet2!I:I,">=5",Sheet2!F:F,"<>已参评好") | N20: =SUM(B20,H20) | O20: =SUM(C20,I20) | P20: =O20/N20 | Q20: =K20+E20 | R20: =Q20/N20 | S20: =M20+G20
A21: 饶平中片工作站 | B21: =COUNTIF(Sheet1!K:K,A21) | C21: =COUNTIFS(Sheet1!K:K,A21,Sheet1!A:A,"<>") | D21: =C21/B21 | E21: =COUNTIFS(Sheet1!K:K,A21,Sheet1!A:A,"已参评好") | F21: =E21/B21 | G21: =COUNTIFS(Sheet1!K:K,A21,Sheet1!F:F,">=5",Sheet1!A:A,"<>已参评好") | H21: =COUNTIF(Sheet2!C:C,A21) | I21: =COUNTIFS(Sheet2!C:C,A21,Sheet2!F:F,"<>") | J21: =I21/H21 | K21: =COUNTIFS(Sheet2!C:C,A21,Sheet2!F:F,"已参评好") | L21: =K21/H21 | M21: =COUNTIFS(Sheet2!C:C,A21,Sheet2!I:I,">=5",Sheet2!F:F,"<>已参评好") | N21: =SUM(B21,H21) | O21: =SUM(C21,I21) | P21: =O21/N21 | Q21: =K21+E21 | R21: =Q21/N21 | S21: =M21+G21
A22: 饶平西片工作站 | B22: =COUNTIF(Sheet1!K:K,A22) | C22: =COUNTIFS(Sheet1!K:K,A22,Sheet1!A:A,"<>") | D22: =C22/B22 | E22: =COUNTIFS(Sheet1!K:K,A22,Sheet1!A:A,"已参评好") | F22: =E22/B22 | G22: =COUNTIFS(Sheet1!K:K,A22,Sheet1!F:F,">=5",Sheet1!A:A,"<>已参评好") | H22: =COUNTIF(Sheet2!C:C,A22) | I22: =COUNTIFS(Sheet2!C:C,A22,Sheet2!F:F,"<>") | J22: =I22/H22 | K22: =COUNTIFS(Sheet2!C:C,A22,Sheet2!F:F,"已参评好") | L22: =K22/H22 | M22: =COUNTIFS(Sheet2!C:C,A22,Sheet2!I:I,">=5",Sheet2!F:F,"<>已参评好") | N22: =SUM(B22,H22) | O22: =SUM(C22,I22) | P22: =O22/N22 | Q22: =K22+E22 | R22: =Q22/N22 | S22: =M22+G22
A23: 饶平北片工作站 | B23: =COUNTIF(Sheet1!K:K,A23) | C23: =COUNTIFS(Sheet1!K:K,A23,Sheet1!A:A,"<>") | D23: =C23/B23 | E23: =COUNTIFS(Sheet1!K:K,A23,Sheet1!A:A,"已参评好") | F23: =E23/B23 | G23: =COUNTIFS(Sheet1!K:K,A23,Sheet1!F:F,">=5",Sheet1!A:A,"<>已参评好") | H23: =COUNTIF(Sheet2!C:C,A23) | I23: =COUNTIFS(Sheet2!C:C,A23,Sheet2!F:F,"<>") | J23: =I23/H23 | K23: =COUNTIFS(Sheet2!C:C,A23,Sheet2!F:F,"已参评好") | L23: =K23/H23 | M23: =COUNTIFS(Sheet2!C:C,A23,Sheet2!I:I,">=5",Sheet2!F:F,"<>已参评好") | N23: =SUM(B23,H23) | O23: =SUM(C23,I23) | P23: =O23/N23 | Q23: =K23+E23 | R23: =Q23/N23 | S23: =M23+G23
A24: 饶平中心 | B24: =SUM(B19:B23) | C24: =SUM(C19:C23) | D24: =C24/B24 | E24: =SUM(E19:E23) | F24: =E24/B24 | G24: =SUM(G19:G23) | H24: =SUM(H19:H23) | I24: =SUM(I19:I23) | J24: =I24/H24 | K24: =SUM(K19:K23) | L24: =K24/H24 | M24: =SUM(M19:M23) | N24: =SUM(N19:N23) | O24: =SUM(O19:O23) | P24: =O24/N24 | Q24: =K24+E24 | R24: =Q24/N24 | S24: =M24+G24
A25: 全市 | B25: =SUM(B24,B18,B9) | C25: =SUM(C24,C18,C9) | D25: =C25/B25 | E25: =SUM(E24,E18,E9) | F25: =E25/B25 | G25: =SUM(G24,G18,G9) | H25: =SUM(H24,H18,H9) | I25: =SUM(I24,I18,I9) | J25: =I25/H25 | K25: =SUM(K24,K18,K9) | L25: =K25/H25 | M25: =SUM(M24,M18,M9) | N25: =SUM(N24,N18,N9) | O25: =SUM(O24,O18,O9) | P25: =O25/N25 | Q25: =K25+E25 | R25: =Q25/N25 | S25: =M25+G25
